BEGIN:VCALENDAR
VERSION:2.0
PRODID:-//Mindfulness Foreningen Danmark - ECPv6.15.20//NONSGML v1.0//EN
CALSCALE:GREGORIAN
METHOD:PUBLISH
X-WR-CALNAME:Mindfulness Foreningen Danmark
X-ORIGINAL-URL:https://mindfulnessforeningen.dk
X-WR-CALDESC:Begivenheder for Mindfulness Foreningen Danmark
REFRESH-INTERVAL;VALUE=DURATION:PT1H
X-Robots-Tag:noindex
X-PUBLISHED-TTL:PT1H
BEGIN:VTIMEZONE
TZID:Europe/Copenhagen
BEGIN:DAYLIGHT
TZOFFSETFROM:+0100
TZOFFSETTO:+0200
TZNAME:CEST
DTSTART:20230326T010000
END:DAYLIGHT
BEGIN:STANDARD
TZOFFSETFROM:+0200
TZOFFSETTO:+0100
TZNAME:CET
DTSTART:20231029T010000
END:STANDARD
BEGIN:DAYLIGHT
TZOFFSETFROM:+0100
TZOFFSETTO:+0200
TZNAME:CEST
DTSTART:20240331T010000
END:DAYLIGHT
BEGIN:STANDARD
TZOFFSETFROM:+0200
TZOFFSETTO:+0100
TZNAME:CET
DTSTART:20241027T010000
END:STANDARD
BEGIN:DAYLIGHT
TZOFFSETFROM:+0100
TZOFFSETTO:+0200
TZNAME:CEST
DTSTART:20250330T010000
END:DAYLIGHT
BEGIN:STANDARD
TZOFFSETFROM:+0200
TZOFFSETTO:+0100
TZNAME:CET
DTSTART:20251026T010000
END:STANDARD
END:VTIMEZONE
BEGIN:VEVENT
DTSTART;VALUE=DATE:20240730
DTEND;VALUE=DATE:20240805
DTSTAMP:20260424T091602
CREATED:20240326T074718Z
LAST-MODIFIED:20240326T122257Z
UID:10000038-1722297600-1722815999@mindfulnessforeningen.dk
SUMMARY:Stilhedsretreat ved Limfjorden
DESCRIPTION:Fordybelse i mindfulness og meditation med Gull-Maja la Cour og Jacob Piet 30. juli -4. august 2024 \nDette 5-dages stilhedsretreat inviterer til at fordybe bevidst nærvær og klarhed samt kontakt til hjertefølelser som venlighed\, kærlighed\, taknemmelighed og medfølelse. \nDen meditative fordybelse bygges gradvist op gennem dagene. Vi begynder med former for praksis der hjælper til at slippe fysiske og mentale spændinger. Herfra bliver det muligt at komme til stede med os selv og hinanden på en naturlig og afspændt måde. Med afsæt i et frisat nærvær og med god forankring i kroppen går vi videre med øvelser\, der kan bringe liv\, kraft og energi ind i processen. Vi vil arbejde med at stabilisere opmærksomheden og skærpe den naturlige klarhed i bevidstheden. Gennem dagene vil vi arbejde med at mærke hjertet og bringe følelsesfylde og sensitivitet ind i den meditative praksis. Perspektivet for retreatet er at kunne drage hjem med indsigt i og inspiration til hvordan du kan bringe disse kvaliteter ind i dit liv – i arbejde\, relationer og verden omkring os. \nDagene vil foregå i en vekselvirkning mellem siddende og gående meditationer\, blid yoga\, bevægelse og afspænding. Med stilheden som klangbund vil der være afgrænsede perioder med kontemplative udvekslinger\, såvel som tid og plads til spørgsmål og dialog omkring de meditative anvisninger. For at støtte dig bedst muligt i retreatprocessen vil der undervejs være mulighed for en eller flere individuelle samtaler med underviserne. \nRetreatet henvender sig til mennesker der enten underviser i mindfulness og meditation eller blot er interesserede i at fordybe og nuancere deres egen meditationspraksis. \nDette retreat kan godkendes som et af de fire obligatoriske retreats på MBSR-uddannelsen ved Dansk Center for Mindfulness\, Aarhus Universitet. \nTid og sted \nStilhedsretreatet afholdes på Duegården som er beliggende i et naturskønt og fredet område. Adressen er Flade Klit 11\, 7900 Nykøbing Mors. \nRetreatet begynder tirsdag d. 30. juli kl. 18 og afsluttes søndag d. 4. august kl. 12. Efterfølgende er der frokost. På ankomstdagen er du velkommen fra kl. 16\, så der er god tid til at finde dit værelse og spise aftenmad. \nPris \nDobbeltværelse: 7000\,- kr. \nEnkeltværelse: 8200\,- kr. \nLÆS MERE
URL:https://mindfulnessforeningen.dk/mindfulness-kalenderen/stilhedsretreat-ved-limfjorden/
LOCATION:Duegården\, Flade Klit 11\, Nykøbing Mors\, 7900
CATEGORIES:Retreats,Stilhedsretreats
ATTACH;FMTTYPE=image/jpeg:https://mindfulnessforeningen.dk/wp-content/uploads/2024/03/Jacob-Piet-og-Gull-Maja-la-Cour.jpg
ORGANIZER;CN="Jacob Piet":MAILTO:jacobpiet@cfm.dk
END:VEVENT
BEGIN:VEVENT
DTSTART;VALUE=DATE:20240813
DTEND;VALUE=DATE:20240819
DTSTAMP:20260424T091602
CREATED:20240326T075305Z
LAST-MODIFIED:20240326T122351Z
UID:10000039-1723507200-1724025599@mindfulnessforeningen.dk
SUMMARY:Stilhedsretreat ved Vesterhavet
DESCRIPTION:Fordybelse i meditation\, mindfulness og hjertets iboende ressourcer med Gull-Maja la Cour og Jacob Piet 13.-18 august 2024 \nDette 5-dages stilhedsretreat er en invitation til at fordybe\, inderliggøre og nære kontakten til dig selv og din indre natur. \nGennem meditation\, yoga og hjertepraksis samt kontakt til naturen og stilhedens ro\, vil vi i fællesskab arbejde med at åbne os dybere for det nuværende øjeblik. Ud fra en autentisk kontakt med dig selv og dine indre ressourcer kan det blive muligt at møde verden – og være i verden – mere ægte\, nøgent\, balanceret og helt. Det er en vej til glæde\, livskvalitet og større indre frihed. Perspektivet for retreatet er at kunne drage hjem med inspiration til at bringe disse kvaliteter ind i dit liv i interaktion og samvær med andre. \nDagene vil foregå i en vekselvirkning mellem siddende og gående meditationer\, blid yoga\, bevægelse og afspænding. Med stilheden som klangbund vil der være afgrænsede perioder med kontemplative udvekslinger\, såvel som tid og plads til spørgsmål og dialog omkring de meditative anvisninger. For at støtte dig bedst muligt i retreatprocessen vil der undervejs være mulighed for en eller flere individuelle samtaler med underviserne. \nRetreatet henvender sig til mennesker der enten underviser i mindfulness og meditation eller blot er interesserede i at fordybe og nuancere deres egen meditationspraksis. \nDette retreat kan godkendes som et af de fire obligatoriske retreats på MBSR-uddannelsen ved Dansk Center for Mindfulness\, Aarhus Universitet. \nTid og sted \nStilhedsretreatet afholdes på Øster Løkke beliggende på toppen af klitterne og med udsigt til Vesterhavet. Adressen er Løkkevej 40\, Trans\, 7620 Lemvig. \nRetreatet begynder tirsdag d. 13. august kl. 19 og afsluttes søndag d. 18. august kl. 12. Efterfølgende er der frokost. På ankomstdagen er du velkommen fra kl. 17\, så der er god tid til at finde dit værelse og lande. \nPris \n\nTeltplads (overnatning i eget telt): 6000\,- kr\nDobbeltværelse: 7000\,- kr.\nEnkeltværelse med bad og toilet på gangen: 8200\,- kr.\nEnkeltværelse med eget bad og toilet: 9200\,- kr.\n\nForplejning inkluderer kaffe/ the\, frugt\, morgenmad\, frokost og aftensmad. Kosten er vegetarisk og så vidt muligt økologisk. Alle vil i løbet af dagene få tildelt nogle få praktiske tjanser i forbindelse med måltiderne. \nLÆS MERE
URL:https://mindfulnessforeningen.dk/mindfulness-kalenderen/stilhedsretreat-ved-vesterhavet/
LOCATION:Øster Løkke\, Løkkevej 40\, Lemvig\, 7620
CATEGORIES:Retreats,Stilhedsretreats
ATTACH;FMTTYPE=image/jpeg:https://mindfulnessforeningen.dk/wp-content/uploads/2024/03/Jacob-Piet-og-Gull-Maja-la-Cour.jpg
ORGANIZER;CN="Jacob Piet":MAILTO:jacobpiet@cfm.dk
END:VEVENT
END:VCALENDAR