BEGIN:VCALENDAR
VERSION:2.0
PRODID:-//Mindfulness Foreningen Danmark - ECPv6.15.20//NONSGML v1.0//EN
CALSCALE:GREGORIAN
METHOD:PUBLISH
X-ORIGINAL-URL:https://mindfulnessforeningen.dk
X-WR-CALDESC:Begivenheder for Mindfulness Foreningen Danmark
REFRESH-INTERVAL;VALUE=DURATION:PT1H
X-Robots-Tag:noindex
X-PUBLISHED-TTL:PT1H
BEGIN:VTIMEZONE
TZID:Europe/Copenhagen
BEGIN:DAYLIGHT
TZOFFSETFROM:+0100
TZOFFSETTO:+0200
TZNAME:CEST
DTSTART:20240331T010000
END:DAYLIGHT
BEGIN:STANDARD
TZOFFSETFROM:+0200
TZOFFSETTO:+0100
TZNAME:CET
DTSTART:20241027T010000
END:STANDARD
BEGIN:DAYLIGHT
TZOFFSETFROM:+0100
TZOFFSETTO:+0200
TZNAME:CEST
DTSTART:20250330T010000
END:DAYLIGHT
BEGIN:STANDARD
TZOFFSETFROM:+0200
TZOFFSETTO:+0100
TZNAME:CET
DTSTART:20251026T010000
END:STANDARD
BEGIN:DAYLIGHT
TZOFFSETFROM:+0100
TZOFFSETTO:+0200
TZNAME:CEST
DTSTART:20260329T010000
END:DAYLIGHT
BEGIN:STANDARD
TZOFFSETFROM:+0200
TZOFFSETTO:+0100
TZNAME:CET
DTSTART:20261025T010000
END:STANDARD
END:VTIMEZONE
BEGIN:VEVENT
DTSTART;TZID=Europe/Copenhagen:20250204T173000
DTEND;TZID=Europe/Copenhagen:20250204T200000
DTSTAMP:20260424T022118
CREATED:20240326T114142Z
LAST-MODIFIED:20241125T074303Z
UID:10000042-1738690200-1738699200@mindfulnessforeningen.dk
SUMMARY:8 ugers mindfulness-kursus i Rødovre (MBSR)
DESCRIPTION:Oplever du en stresset hverdag\, og ønsker du mere ro og balance i dit liv? \nMBSR-kurset er for alle\, der gerne vil have mere nærvær\, ro og glæde i deres hverdag. Det kan også være til dig\, der oplever søvnproblemer\, tankemylder\, uro og bekymring\, angst eller smerter i kroppen. \nOm MBSR\nMBSR (mindfulness-baseret stressreduktion) er et 8 ugers videnskabeligt veldokumenteret træningsprogram. Det er udviklet på University of Massachusetts i USA af den amerikanske professor Jon Kabat-Zinn i 1979. Siden har det været anvendt over hele verden til mange forskellige målgrupper. \nKursets opbygning\nForløbet består af: \n\net gratis orienteringsmøde\n8 undervisningsgange (2\,5 time)\nen hel fordybelsesdag i stilhed\n\nDerudover vil der være 30-45 minutter træning på egen hånd derhjemme 6 gange ugentlig. Du vil få tilsendt lydfiler med guidede meditationer til hjemmearbejdet. \nØvelser\nMBSR-holdet er et intensivt forløb\, hvor vi træner evnen til at være opmærksomt tilstede i det nuværende øjeblik\, uden at dømme. Træningen består af en række praktiske mindfulness-øvelser\, som fx liggende kropsscanning\, blide yoga-øvelser og siddende meditationer. \nUndervisning\nMindfulness-øvelserne suppleres med samtale om oplevelser og erfaringer. Der undervises også i stressfysiologi og kommunikation\, samt i vores måde at forholde os til vores tanker\, følelser og adfærd. \nMålgruppe\nMBSR er træning i bevidst nærvær\, opmærksomhed og egenomsorg. Det er ikke kun for folk med stress\, men for alle der ønsker at lære mindfulness og opnå øget nærvær og større selvindsigt. \nGratis orienteringsmøde\nInden du tilmelder dig MBSR-holdet\, inviteres du til et gratis orienteringsmøde\, hvor vi gennemgår kursets form og indhold. Her kan du møde underviseren\, prøve en enkelt øvelse og stille spørgsmål. Først derefter er din tilmelding bindende. \nKan du ikke deltage i orienteringsmødet? Skriv til underviser Lene Møbjerg på lmt@mindfulnessguiden.dk. Så får du tilsendt en optagelse af orienteringsmødet\, som du kan se derhjemme. \nSe mere om det gratis orienteringsmøde \nTid og sted\nKurset afholdes i hyggelige og grønne omgivelser på Rødovregård\, Kirkesvinget 1\, 2610 Rødovre. \nDatoer\n\nGratis orienteringsmøde: Tirsdag 21.01.2025\, kl. 18:00-19:30\n1. session: Tirsdag d. 4. februar 2025\, 17.30 – 20.00\n2 session: Tirsdag 11. februar 2025\, 17.30 – 20.00\n3. session: Tirsdag 25. februar 2025\, 17.30 – 20.00\n4. session: Tirsdag 4. marts 2025\, 17.30 – 20.00\n5. session: Tirsdag 11. marts 2025\, 17.30 – 20.00\n6. session: Tirsdag 18. marts 2025\, 17.30 – 20.00\nFordybelsesdag: Lørdag 22. marts 2025\, 10 -17.00\n7. session: Tirsdag 25. marts 2025\, 17.30 – 20.00\n8 session: Tirsdag 1. april 2025\, 17.30 – 20.00\n\nOm underviseren\nLene Møbjerg er uddannet mindfulness-underviser og journalist. \nHun er uddannet i MBSR-programmet fra Dansk Center for Mindfulness ved Aarhus Universitet i samarbejde med Brown University i USA. Uddannelsen er den originale og evidensbaserede udgave af 8 ugers forløbet Mindfulness Baseret Stressreduktion. \nTil daglig arbejder Lene på deltid i Undervisningsministeriet\, er indehaver af virksomheden Mindfulnessguiden og underviser i mindfulness. \nSe mere på Mindfulnessguiden.dk \nPriser\nPris 2350 kr. inkl. lydfiler og materialer.\n\nPensionist Albertslund DKK 1.645\,-\nEfterlønsmodtager Albertslund DKK 1.645\,-\nEfterlønsmodtager Rødovre DKK 1.998\,-\nLedige Rødovre DKK 1.998\,-\nPensionist Rødovre DKK 1.998\,-\n\n  \nSpørgsmål til kurset\nDu er meget velkommen til at kontakte mig på lmt@mindfulnessguiden.dk\, hvis du har spørgsmål til kurset – Kh Lene Møbjerg \nTilmelding hos FOF\nTilmeld dig hos FOF Københavns Omegn.
URL:https://mindfulnessforeningen.dk/mindfulness-kalenderen/8-ugers-mindfulness-kursus-i-roedovre-mbsr-efteraar-2024/
LOCATION:Rødovregård\, Kirkesvinget 1\, Rødovre\, 2610\, Danmark
CATEGORIES:MBSR-hold,Mindfulness-kurser
ATTACH;FMTTYPE=image/png:https://mindfulnessforeningen.dk/wp-content/uploads/2024/02/Purple-Professional-Gradients-Wealth-Management-Finance-LinkedIn-Single-Image-Ad-2-e1711452880617.png
ORGANIZER;CN="Lene M%C3%B8bjerg":MAILTO:lmt@mindfulnessguiden.dk
END:VEVENT
END:VCALENDAR