BEGIN:VCALENDAR
VERSION:2.0
PRODID:-//Mindfulness Foreningen Danmark - ECPv6.15.20//NONSGML v1.0//EN
CALSCALE:GREGORIAN
METHOD:PUBLISH
X-WR-CALNAME:Mindfulness Foreningen Danmark
X-ORIGINAL-URL:https://mindfulnessforeningen.dk
X-WR-CALDESC:Begivenheder for Mindfulness Foreningen Danmark
REFRESH-INTERVAL;VALUE=DURATION:PT1H
X-Robots-Tag:noindex
X-PUBLISHED-TTL:PT1H
BEGIN:VTIMEZONE
TZID:Europe/Copenhagen
BEGIN:DAYLIGHT
TZOFFSETFROM:+0100
TZOFFSETTO:+0200
TZNAME:CEST
DTSTART:20230326T010000
END:DAYLIGHT
BEGIN:STANDARD
TZOFFSETFROM:+0200
TZOFFSETTO:+0100
TZNAME:CET
DTSTART:20231029T010000
END:STANDARD
BEGIN:DAYLIGHT
TZOFFSETFROM:+0100
TZOFFSETTO:+0200
TZNAME:CEST
DTSTART:20240331T010000
END:DAYLIGHT
BEGIN:STANDARD
TZOFFSETFROM:+0200
TZOFFSETTO:+0100
TZNAME:CET
DTSTART:20241027T010000
END:STANDARD
BEGIN:DAYLIGHT
TZOFFSETFROM:+0100
TZOFFSETTO:+0200
TZNAME:CEST
DTSTART:20250330T010000
END:DAYLIGHT
BEGIN:STANDARD
TZOFFSETFROM:+0200
TZOFFSETTO:+0100
TZNAME:CET
DTSTART:20251026T010000
END:STANDARD
END:VTIMEZONE
BEGIN:VEVENT
DTSTART;VALUE=DATE:20241003
DTEND;VALUE=DATE:20241011
DTSTAMP:20260424T023126
CREATED:20240326T085232Z
LAST-MODIFIED:20240427T175611Z
UID:10000041-1727913600-1728604799@mindfulnessforeningen.dk
SUMMARY:Kursus om stresshåndtering på Kreta
DESCRIPTION:Tag vare på dig selv – et kursus om stresshåndtering\, livsglæde og selvomsorg på Kreta \nMålgruppe\nPraktiserende læger og andre med sundhedsfaglig arbejde (sygeplejersker\, jordemødre\, fysioterapeuter\, psykologer ledere i sundhedsvæsenret etc). Andre faggrupper er velkomne. \nOm kurset\nVelkommen til en berigende og inspirerende kursusuge i den lille fiskerby Lendas på det sydlige Kreta\, som har været stedet for healing og helbredelse siden 400 f.Kr. Byen har en vidunderlig rolig atmosfære præget af en storslået natur og en enkel livsstil\, som giver de bedste muligheder for såvel rekreation som kontemplation. \nKurset henvender sig til dig der ønsker at blive bedre til at tage vare på dig selv og din mentala sundhed. Dermed bliver du også bedre til at tage vare på dine nærmeste\, dine kollegaer og dine patienter. Som praktiserende læge og andet sundhedsfagligt personale har du et stort ansvar\, og du bruger dig selv\, som en aktiv del af behandlingen i den daglige kontakt med mange patienter. Det er ofte givende\, men kan også føles krævende og udmattende til tider. \nPå dette kursus vil du lære hvordan du helt grundlæggende kan tage vare på dig selv\, blive mere opmærksom på livets små pauser og de muligheder de giver for at bringe dig i balance. Vi vil i fællesskab udforske metoder til at bevare ro og nærvær i kontakten med andre mennesker. \nNår vi sætter farten ned\, mærker roen\, naturen og skønheden samtidig med at vi træner metoder til større afspændthed\, giver det ofte plads til naturlige positive følelser af livskvalitet\, glæde og mening med tilværelsen. \nDu vil få konkret viden og redskaber til at tage med dig hjem og fortsætte din træning hver eneste dag derhjemme. \nKursusindhold\nMed solidt udgangspunkt i mindfulness baseret træning\, vil du opleve og indøve teknikker\, der helt basalt kan få reguleret dit nervesystem i ro og skabe rum for mere glæde og nærvær midt i hele livet. \nKurset indeholder de grundlæggendeteorier og øvelserder indgår i det evidensbaserede kursus Mindfulness Baseret Stress Reduktion (MBSR)\, der er udviklet af Professor Jon Kabat Zinn i 1979 på University of Massachusetts. Der er siden publiceret mere end 7000 videnskabelige artikler om effekterne af programmet. \nDer vil på kurset indgå letyoga\, forskellige meditationsteknikker\,teoretiske oplæg om stressog nervesystemet og hvordan vi kan påvirke dette ved bl.a. at meditere. \nDer vil også være tid til at bade\, vandre\, tænke\, nyde\, mærke og bare være. \nDatoer\n3 – 10 oktober 2024 \nKursledere\n\nAnette Hauskov Graungaard\, – praktiserende læge\, lektor\, ph.d\, mindfulnessunderviser\nJacob Piet – psykolog\, ph.d\, mindfulnessunderviser\nGull-maja la Cour – psykolog\, yogalærer\, mindfulnessunderviser\n\nLÆS MERE
URL:https://mindfulnessforeningen.dk/mindfulness-kalenderen/kursus-om-stresshaandtering-livsglaede-og-selvomsorg/
LOCATION:Kreta\, Lentas 700 09\, 700 09\, Greece
CATEGORIES:Andre mindfulness-kurser,Andre mindfulness-retreats,Mindfulness-kurser,Retreats
ATTACH;FMTTYPE=image/jpeg:https://mindfulnessforeningen.dk/wp-content/uploads/2024/03/Jacob-Piet-og-Gull-Maja-la-Cour.jpg
ORGANIZER;CN="Jacob Piet":MAILTO:jacobpiet@cfm.dk
END:VEVENT
BEGIN:VEVENT
DTSTART;TZID=Europe/Copenhagen:20241007T190000
DTEND;TZID=Europe/Copenhagen:20241007T203000
DTSTAMP:20260424T023126
CREATED:20231127T135256Z
LAST-MODIFIED:20240909T073334Z
UID:10000011-1728327600-1728333000@mindfulnessforeningen.dk
SUMMARY:Gratis intro til mindfulness og MBSR i Roskilde
DESCRIPTION:GRATIS INTRODUKTION TIL MINDFULNESS OG MBSR KURSUS – 7.oktober. \nVi mødes 7.oktober 2024 i Ro´s-Kilde Helsecenter kl.19.00-20.30 i Roskilde. \nHer har du mulighed for at stifte bekendtskab med mindfulness\, prøve nogle øvelser og høre mere om det intense 8-ugers MBSR mindfulness forløb. \nKursus opstart er: 23.oktober 2024 og 8.januar 2025 – i Roskilde. \nØnsker du at deltage til gratis introduktion\, bedes du tilmelde dig på: beritlarsen@mindful-u.dk \nMBSR mindfulness programmet er det globalt set mest gennemtestede og forskningsmæssigt velafprøvede mindfulness program.\nPå 8 ugers programmet anvendes der intensiv træning i mindfulness/bevidst venligt nærvær til forbedring af helbred\, livskvalitet og livsglæde hos raske og syge personer\, herunder effektiv håndtering af symptomer på stress\, angst og depression \nTILMELDING og spørgsmål: på e-mail: beritlarsen@mindful-u.dk eller på tlf. 26 17 09 55 \nSted: Ro´s-Kilde Helsecenter\, Vindingevej 34C\, 4000 Roskilde \nUnderviser\nBerit Larsen er Traume- og psykoterapeut MPF\, Coach ICF og uddannet MBSR lærer fra Århus Universitet. Hun har en baggrund som bevægelsespædagog og har herfra lang undervisningserfaring i kropsbevidsthed og bevægelse. Derudover har hun været leder og iværksætter i det private erhvervsliv. Berit er en erfaren underviser inden for MBSR kursus forløb\, samt kurser i meditation og kropsbevidsthed. \nLæs mere på mindful-u.dk
URL:https://mindfulnessforeningen.dk/mindfulness-kalenderen/8-ugers-mbsr-mindfulness-forloeb-roskilde/
CATEGORIES:Andre mindfulness-kurser,MBSR-hold
ATTACH;FMTTYPE=image/jpeg:https://mindfulnessforeningen.dk/wp-content/uploads/2023/11/berit-larsen-e1725867207407.jpg
ORGANIZER;CN="Berit Larsen":MAILTO:beritlarsen@mindful-u.dk
END:VEVENT
END:VCALENDAR