BEGIN:VCALENDAR
VERSION:2.0
PRODID:-//Mindfulness Foreningen Danmark - ECPv6.15.20//NONSGML v1.0//EN
CALSCALE:GREGORIAN
METHOD:PUBLISH
X-WR-CALNAME:Mindfulness Foreningen Danmark
X-ORIGINAL-URL:https://mindfulnessforeningen.dk
X-WR-CALDESC:Begivenheder for Mindfulness Foreningen Danmark
REFRESH-INTERVAL;VALUE=DURATION:PT1H
X-Robots-Tag:noindex
X-PUBLISHED-TTL:PT1H
BEGIN:VTIMEZONE
TZID:Europe/Copenhagen
BEGIN:DAYLIGHT
TZOFFSETFROM:+0100
TZOFFSETTO:+0200
TZNAME:CEST
DTSTART:20240331T010000
END:DAYLIGHT
BEGIN:STANDARD
TZOFFSETFROM:+0200
TZOFFSETTO:+0100
TZNAME:CET
DTSTART:20241027T010000
END:STANDARD
BEGIN:DAYLIGHT
TZOFFSETFROM:+0100
TZOFFSETTO:+0200
TZNAME:CEST
DTSTART:20250330T010000
END:DAYLIGHT
BEGIN:STANDARD
TZOFFSETFROM:+0200
TZOFFSETTO:+0100
TZNAME:CET
DTSTART:20251026T010000
END:STANDARD
BEGIN:DAYLIGHT
TZOFFSETFROM:+0100
TZOFFSETTO:+0200
TZNAME:CEST
DTSTART:20260329T010000
END:DAYLIGHT
BEGIN:STANDARD
TZOFFSETFROM:+0200
TZOFFSETTO:+0100
TZNAME:CET
DTSTART:20261025T010000
END:STANDARD
END:VTIMEZONE
BEGIN:VEVENT
DTSTART;TZID=Europe/Copenhagen:20250910T130000
DTEND;TZID=Europe/Copenhagen:20251105T153000
DTSTAMP:20260422T201201
CREATED:20250814T082037Z
LAST-MODIFIED:20250814T082446Z
UID:10000336-1757509200-1762356600@mindfulnessforeningen.dk
SUMMARY:8 ugers MBSR forløb for unge og studerende
DESCRIPTION:Datoer: 10.09\, 17.09\, 24.09\, 01.10\, 08.10\, 22.10\, 25.10\, 29.10\, 05.11 \nTidsrum: kl. 13.00 – 15.30 \nHvor: Sct. Thomas kirke\, Rolighedsvej\, Frederiksberg \nFor mere info eller tilmelding kontakt studiepræst og MBSR-instruktør Dorte Thomsen på doth@km.dk / 61222654 \nDet er gratis
URL:https://mindfulnessforeningen.dk/mindfulness-kalenderen/8-ugers-mbsr-forloeb-for-unge-og-studerende/
LOCATION:Sct. Thomas kirke\, Frederiksberg\, Rolighedsvej 16\, Frederiksberg\, 1958\, Danmark
CATEGORIES:8 -Ugers MBSR forløb for unge og studerende,MBSR-hold,Mindfulness-kurser
END:VEVENT
BEGIN:VEVENT
DTSTART;TZID=Europe/Copenhagen:20251007T090000
DTEND;TZID=Europe/Copenhagen:20251007T093000
DTSTAMP:20260422T201201
CREATED:20250826T113137Z
LAST-MODIFIED:20260104T145944Z
UID:10000350-1759827600-1759829400@mindfulnessforeningen.dk
SUMMARY:Morgen-meditation Online
DESCRIPTION:Mindfulnessforeningen tilbyder morgenmeditationer online næsten hver tirsdag fra 9:00-9:30 \nFølgende tirsdage vil der være meditation:\n26. august ved Mariann\, 2. sept. ved Mariann\, 9. sept. ved Birthe Moksha\, 7. okt. ved Mariann \, 14. okt. ved Birthe Moksha\, 21. okt. ved Mariann\, 28. okt ved Birthe Moksha \nDer kommer flere datoer løbende \nDu deltager via følgende link: Deltag via Zoom \nDu kan tilgå linket ca. 5 minutter før sessionens opstart. Det vil være samme link til Zoom hver gang.\nDu er meget velkommen til at dele linket med andre – eventuelt kursister\, der kunne bruge et meditationsfælleskab til at holde praksis ved lige.\nDu vil møde forskellige mindfulness og compassion undervisere til inspiration\, det er både for dig der arbejder professionelt med andre og også et tilbud til dine kursister mm del gerne\, vi tilbyder dette som support til din praksis og støtte til din undervisning.
URL:https://mindfulnessforeningen.dk/mindfulness-kalenderen/morgen-meditationer-online-3/2025-10-07/
CATEGORIES:Drop in-hold,Meditationsgrupper
ATTACH;FMTTYPE=image/jpeg:https://mindfulnessforeningen.dk/wp-content/uploads/2024/11/IMG_3548-e1727678667246.jpg
END:VEVENT
BEGIN:VEVENT
DTSTART;TZID=Europe/Copenhagen:20251014T090000
DTEND;TZID=Europe/Copenhagen:20251014T093000
DTSTAMP:20260422T201201
CREATED:20250826T113137Z
LAST-MODIFIED:20260104T145944Z
UID:10000351-1760432400-1760434200@mindfulnessforeningen.dk
SUMMARY:Morgen-meditation Online
DESCRIPTION:Mindfulnessforeningen tilbyder morgenmeditationer online næsten hver tirsdag fra 9:00-9:30 \nFølgende tirsdage vil der være meditation:\n26. august ved Mariann\, 2. sept. ved Mariann\, 9. sept. ved Birthe Moksha\, 7. okt. ved Mariann \, 14. okt. ved Birthe Moksha\, 21. okt. ved Mariann\, 28. okt ved Birthe Moksha \nDer kommer flere datoer løbende \nDu deltager via følgende link: Deltag via Zoom \nDu kan tilgå linket ca. 5 minutter før sessionens opstart. Det vil være samme link til Zoom hver gang.\nDu er meget velkommen til at dele linket med andre – eventuelt kursister\, der kunne bruge et meditationsfælleskab til at holde praksis ved lige.\nDu vil møde forskellige mindfulness og compassion undervisere til inspiration\, det er både for dig der arbejder professionelt med andre og også et tilbud til dine kursister mm del gerne\, vi tilbyder dette som support til din praksis og støtte til din undervisning.
URL:https://mindfulnessforeningen.dk/mindfulness-kalenderen/morgen-meditationer-online-3/2025-10-14/
CATEGORIES:Drop in-hold,Meditationsgrupper
ATTACH;FMTTYPE=image/jpeg:https://mindfulnessforeningen.dk/wp-content/uploads/2024/11/IMG_3548-e1727678667246.jpg
END:VEVENT
BEGIN:VEVENT
DTSTART;TZID=Europe/Copenhagen:20251021T090000
DTEND;TZID=Europe/Copenhagen:20251021T093000
DTSTAMP:20260422T201201
CREATED:20250826T113137Z
LAST-MODIFIED:20260104T145944Z
UID:10000352-1761037200-1761039000@mindfulnessforeningen.dk
SUMMARY:Morgen-meditation Online
DESCRIPTION:Mindfulnessforeningen tilbyder morgenmeditationer online næsten hver tirsdag fra 9:00-9:30 \nFølgende tirsdage vil der være meditation:\n26. august ved Mariann\, 2. sept. ved Mariann\, 9. sept. ved Birthe Moksha\, 7. okt. ved Mariann \, 14. okt. ved Birthe Moksha\, 21. okt. ved Mariann\, 28. okt ved Birthe Moksha \nDer kommer flere datoer løbende \nDu deltager via følgende link: Deltag via Zoom \nDu kan tilgå linket ca. 5 minutter før sessionens opstart. Det vil være samme link til Zoom hver gang.\nDu er meget velkommen til at dele linket med andre – eventuelt kursister\, der kunne bruge et meditationsfælleskab til at holde praksis ved lige.\nDu vil møde forskellige mindfulness og compassion undervisere til inspiration\, det er både for dig der arbejder professionelt med andre og også et tilbud til dine kursister mm del gerne\, vi tilbyder dette som support til din praksis og støtte til din undervisning.
URL:https://mindfulnessforeningen.dk/mindfulness-kalenderen/morgen-meditationer-online-3/2025-10-21/
CATEGORIES:Drop in-hold,Meditationsgrupper
ATTACH;FMTTYPE=image/jpeg:https://mindfulnessforeningen.dk/wp-content/uploads/2024/11/IMG_3548-e1727678667246.jpg
END:VEVENT
BEGIN:VEVENT
DTSTART;TZID=Europe/Copenhagen:20251022T170000
DTEND;TZID=Europe/Copenhagen:20251022T193000
DTSTAMP:20260422T201201
CREATED:20231127T135601Z
LAST-MODIFIED:20250430T040842Z
UID:10000012-1761152400-1761161400@mindfulnessforeningen.dk
SUMMARY:8-ugers MBSR mindfulness-forløb i Roskilde
DESCRIPTION:På 8 ugers programmet anvendes der intensiv træning i mindfulness/bevidst nærvær til forbedring af helbred\, livskvalitet og livsglæde hos raske og syge personer\, herunder effektiv håndtering af symptomer på stress\, angst og depression. \nVi mødes 8 onsdage i Roskilde og en hel retreat fredag. \nUnderviser\nBerit Larsen er Traume- og psykoterapeut MPF\, Coach ICF og uddannet MBSR lærer fra Århus Universitet. Hun har en baggrund som bevægelsespædagog og har herfra lang undervisningserfaring i kropsbevidsthed og bevægelse. Derudover har hun været leder og iværksætter i det private erhvervsliv. Berit er en erfaren underviser inden for MBSR kursus forløb\, samt kurser i meditation og kropsbevidsthed. \nTid\nKurset starter onsdag d.22.oktober 2025 \nUndervisning fra kl.17.00-19.30. (første gang kl.17.00-20.00) \nDatoer\nDatoer: 2025: 22\, 29 okt – 5\, 12\, 19\, 26 nov – 3\, 10 dec\, samt et heldags fredagsretreat d.5/12 2025 kl. 9-16.00. (OBS: første kursusgang er tre timer kl.17.00-20.00). \nLæs mere på mindful-u.dk
URL:https://mindfulnessforeningen.dk/mindfulness-kalenderen/8-ugers-mbsr-mindfulness-forloeb/
LOCATION:Ros´Kilde Helsecenter\, Vindingevej 34E\, Roskilde\, Region Sjælland\, 4000\, Danmark
CATEGORIES:MBSR-hold
ATTACH;FMTTYPE=image/jpeg:https://mindfulnessforeningen.dk/wp-content/uploads/2023/11/berit-larsen-1.jpg
ORGANIZER;CN="Berit Larsen":MAILTO:beritlarsen@mindful-u.dk
END:VEVENT
BEGIN:VEVENT
DTSTART;TZID=Europe/Copenhagen:20251028T090000
DTEND;TZID=Europe/Copenhagen:20251028T093000
DTSTAMP:20260422T201201
CREATED:20250826T113137Z
LAST-MODIFIED:20260104T145944Z
UID:10000353-1761642000-1761643800@mindfulnessforeningen.dk
SUMMARY:Morgen-meditation Online
DESCRIPTION:Mindfulnessforeningen tilbyder morgenmeditationer online næsten hver tirsdag fra 9:00-9:30 \nFølgende tirsdage vil der være meditation:\n26. august ved Mariann\, 2. sept. ved Mariann\, 9. sept. ved Birthe Moksha\, 7. okt. ved Mariann \, 14. okt. ved Birthe Moksha\, 21. okt. ved Mariann\, 28. okt ved Birthe Moksha \nDer kommer flere datoer løbende \nDu deltager via følgende link: Deltag via Zoom \nDu kan tilgå linket ca. 5 minutter før sessionens opstart. Det vil være samme link til Zoom hver gang.\nDu er meget velkommen til at dele linket med andre – eventuelt kursister\, der kunne bruge et meditationsfælleskab til at holde praksis ved lige.\nDu vil møde forskellige mindfulness og compassion undervisere til inspiration\, det er både for dig der arbejder professionelt med andre og også et tilbud til dine kursister mm del gerne\, vi tilbyder dette som support til din praksis og støtte til din undervisning.
URL:https://mindfulnessforeningen.dk/mindfulness-kalenderen/morgen-meditationer-online-3/2025-10-28/
CATEGORIES:Drop in-hold,Meditationsgrupper
ATTACH;FMTTYPE=image/jpeg:https://mindfulnessforeningen.dk/wp-content/uploads/2024/11/IMG_3548-e1727678667246.jpg
END:VEVENT
END:VCALENDAR